BEGIN:VCALENDAR
VERSION:2.0
PRODID:spatie/icalendar-generator
BEGIN:VTIMEZONE
TZID:Europe/Helsinki
BEGIN:DAYLIGHT
DTSTART:19700329T030000
TZOFFSETFROM:+0200
TZOFFSETTO:+0300
TZNAME:EEST
RRULE:FREQ=YEARLY;BYMONTH=3;BYDAY=-1SU
END:DAYLIGHT
BEGIN:STANDARD
DTSTART:19701025T040000
TZOFFSETFROM:+0300
TZOFFSETTO:+0200
TZNAME:EET
RRULE:FREQ=YEARLY;BYMONTH=10;BYDAY=-1SU
END:STANDARD
END:VTIMEZONE
BEGIN:VEVENT
UID:69ea34157ea2e
DTSTAMP:20260423T150037Z
DTSTART;TZID=Europe/Helsinki:20260428T000000
DTEND;TZID=Europe/Helsinki:20260428T000000
SUMMARY:Hiilijalanjälki haltuun – maksuton koulutus yrityksille Suupohja
 ssa
URL:https://www.eepeeriihi.fi/event/hiilijalanjalki-haltuun-maksuton-koulut
 us-yrityksille-suupohjassa/
END:VEVENT
END:VCALENDAR